BEGIN:VCALENDAR
VERSION:2.0
PRODID:-//www.kevinshawjrfoundation.org//NONSGML kigkonsult.se iCalcreator 
 2.30.10//
CALSCALE:GREGORIAN
METHOD:PUBLISH
UID:6bd61a96-1ad7-48e1-8980-f6f46e3d315d
X-WR-CALDESC:
X-WR-RELCALID:664d5f18a469af12b71780fd766fab1b
X-WR-TIMEZONE:America/New_York
BEGIN:VTIMEZONE
TZID:America/New_York
BEGIN:STANDARD
TZNAME:EST
DTSTART:20181104T020000
TZOFFSETFROM:-0400
TZOFFSETTO:-0500
RDATE:20191103T020000
RDATE:20201101T020000
END:STANDARD
BEGIN:DAYLIGHT
TZNAME:EDT
DTSTART:20190310T020000
TZOFFSETFROM:-0500
TZOFFSETTO:-0400
RDATE:20200308T020000
END:DAYLIGHT
END:VTIMEZONE
BEGIN:VEVENT
UID:1df034ff-252b-4d2d-aac9-0aef33096d9b
DTSTAMP:20260419T183528Z
DESCRIPTION:
DTSTART;TZID=America/New_York:20190727T120000
DTEND;TZID=America/New_York:20190727T180000
LOCATION:
SUMMARY:1st Annual Kevin Shaw Jr  Foundation Anti Gun Violence Day
END:VEVENT
END:VCALENDAR
