BEGIN:VCALENDAR
VERSION:2.0
PRODID:-//www.kevinshawjrfoundation.org//NONSGML kigkonsult.se iCalcreator 
 2.30.10//
CALSCALE:GREGORIAN
METHOD:PUBLISH
UID:25bb5804-72af-4b48-87e5-9cfeab0b3700
X-WR-CALDESC:Assorted Buffet\nCash Bar\nMusical Performance by Daveed\nGues
 t Speaker: Guy Sanders Jr.
X-WR-RELCALID:dc3d0356becc560a8beb2625151cab81
X-WR-TIMEZONE:America/New_York
BEGIN:VTIMEZONE
TZID:America/New_York
BEGIN:STANDARD
TZNAME:EST
DTSTART:20181104T020000
TZOFFSETFROM:-0400
TZOFFSETTO:-0500
RDATE:20191103T020000
RDATE:20201101T020000
END:STANDARD
BEGIN:DAYLIGHT
TZNAME:EDT
DTSTART:20190310T020000
TZOFFSETFROM:-0500
TZOFFSETTO:-0400
RDATE:20200308T020000
END:DAYLIGHT
END:VTIMEZONE
BEGIN:VEVENT
UID:82c9b2a9-e810-4dbd-973c-02a1a7b7344e
DTSTAMP:20260419T204239Z
DESCRIPTION:Assorted Buffet\nCash Bar\nMusical Performance by Daveed\nGuest
  Speaker: Guy Sanders Jr.
DTSTART;TZID=America/New_York:20190630T130000
DTEND;TZID=America/New_York:20190630T163000
LOCATION:The Eastwood Manor 3371 Eastchester Road\, Bronx NY 10469
SUMMARY:The Kevin Shaw Jr. Foundation: Third Annual Scholarship Awards Brun
 ch
END:VEVENT
END:VCALENDAR
