BEGIN:VCALENDAR
VERSION:2.0
PRODID:-//www.kevinshawjrfoundation.org//NONSGML kigkonsult.se iCalcreator 
 2.30.10//
CALSCALE:GREGORIAN
METHOD:PUBLISH
UID:b1e5e88b-d60a-4180-81d8-00358494139e
X-WR-CALDESC:
X-WR-RELCALID:65847aa18add8708d06a298e63b54984
X-WR-TIMEZONE:America/New_York
BEGIN:VTIMEZONE
TZID:America/New_York
BEGIN:STANDARD
TZNAME:EST
DTSTART:20181104T020000
TZOFFSETFROM:-0400
TZOFFSETTO:-0500
RDATE:20191103T020000
END:STANDARD
BEGIN:DAYLIGHT
TZNAME:EDT
DTSTART:20180311T020000
TZOFFSETFROM:-0500
TZOFFSETTO:-0400
RDATE:20190310T020000
RDATE:20200308T020000
END:DAYLIGHT
END:VTIMEZONE
BEGIN:VEVENT
UID:93d8874e-71bf-45f6-b4d6-d7e4033ff74d
DTSTAMP:20260420T055558Z
DESCRIPTION:
DTSTART;TZID=America/New_York:20190115T000000
DTEND;TZID=America/New_York:20190115T235900
LOCATION:
SUMMARY:Scholarship Application Period Begins
END:VEVENT
END:VCALENDAR
