BEGIN:VCALENDAR
VERSION:2.0
PRODID:-//www.kevinshawjrfoundation.org//NONSGML kigkonsult.se iCalcreator 
 2.30.10//
CALSCALE:GREGORIAN
METHOD:PUBLISH
UID:fadbac5b-0c00-4c41-ad7a-1424a801afbc
X-WR-CALDESC:Test
X-WR-RELCALID:656d25caba4d097a68928d0dd1edd8cf
X-WR-TIMEZONE:America/New_York
BEGIN:VTIMEZONE
TZID:America/New_York
BEGIN:STANDARD
TZNAME:EST
DTSTART:20181104T020000
TZOFFSETFROM:-0400
TZOFFSETTO:-0500
RDATE:20191103T020000
END:STANDARD
BEGIN:DAYLIGHT
TZNAME:EDT
DTSTART:20180311T020000
TZOFFSETFROM:-0500
TZOFFSETTO:-0400
RDATE:20190310T020000
RDATE:20200308T020000
END:DAYLIGHT
END:VTIMEZONE
BEGIN:VEVENT
UID:32f6a466-d5e0-43bd-adca-23cbf8cec461
DTSTAMP:20260420T094937Z
DESCRIPTION:Test
DTSTART;TZID=America/New_York:20181116T213000
DTEND;TZID=America/New_York:20181117T223000
LOCATION:TEst
SUMMARY:Ceremony
END:VEVENT
END:VCALENDAR
